BEGIN:VCALENDAR
VERSION:2.0
PRODID:-//Ministerio de Trabajo y Desarrollo Laboral - ECPv6.15.20//NONSGML v1.0//EN
CALSCALE:GREGORIAN
METHOD:PUBLISH
X-ORIGINAL-URL:https://www.mitradel.gob.pa
X-WR-CALDESC:Eventos para Ministerio de Trabajo y Desarrollo Laboral
REFRESH-INTERVAL;VALUE=DURATION:PT1H
X-Robots-Tag:noindex
X-PUBLISHED-TTL:PT1H
BEGIN:VTIMEZONE
TZID:America/New_York
BEGIN:DAYLIGHT
TZOFFSETFROM:-0500
TZOFFSETTO:-0400
TZNAME:EDT
DTSTART:20160313T070000
END:DAYLIGHT
BEGIN:STANDARD
TZOFFSETFROM:-0400
TZOFFSETTO:-0500
TZNAME:EST
DTSTART:20161106T060000
END:STANDARD
BEGIN:DAYLIGHT
TZOFFSETFROM:-0500
TZOFFSETTO:-0400
TZNAME:EDT
DTSTART:20170312T070000
END:DAYLIGHT
BEGIN:STANDARD
TZOFFSETFROM:-0400
TZOFFSETTO:-0500
TZNAME:EST
DTSTART:20171105T060000
END:STANDARD
BEGIN:DAYLIGHT
TZOFFSETFROM:-0500
TZOFFSETTO:-0400
TZNAME:EDT
DTSTART:20180311T070000
END:DAYLIGHT
BEGIN:STANDARD
TZOFFSETFROM:-0400
TZOFFSETTO:-0500
TZNAME:EST
DTSTART:20181104T060000
END:STANDARD
BEGIN:DAYLIGHT
TZOFFSETFROM:-0500
TZOFFSETTO:-0400
TZNAME:EDT
DTSTART:20190310T070000
END:DAYLIGHT
BEGIN:STANDARD
TZOFFSETFROM:-0400
TZOFFSETTO:-0500
TZNAME:EST
DTSTART:20191103T060000
END:STANDARD
BEGIN:DAYLIGHT
TZOFFSETFROM:-0500
TZOFFSETTO:-0400
TZNAME:EDT
DTSTART:20200308T070000
END:DAYLIGHT
BEGIN:STANDARD
TZOFFSETFROM:-0400
TZOFFSETTO:-0500
TZNAME:EST
DTSTART:20201101T060000
END:STANDARD
BEGIN:DAYLIGHT
TZOFFSETFROM:-0500
TZOFFSETTO:-0400
TZNAME:EDT
DTSTART:20210314T070000
END:DAYLIGHT
BEGIN:STANDARD
TZOFFSETFROM:-0400
TZOFFSETTO:-0500
TZNAME:EST
DTSTART:20211107T060000
END:STANDARD
END:VTIMEZONE
BEGIN:VEVENT
DTSTART;TZID=America/New_York:20200416T030000
DTEND;TZID=America/New_York:20200416T120000
DTSTAMP:20260426T000524
CREATED:20200417T004240Z
LAST-MODIFIED:20200417T004240Z
UID:15010-1587006000-1587038400@www.mitradel.gob.pa
SUMMARY:Comisión Tripartita evalúa virtualmente situación laboral del país por COVID 19
DESCRIPTION:La ministra de Trabajo y Desarrollo Laboral\, Doris Zapata\, convocó este jueves 16 de abril\, la primera reunión virtual de la Comisión Tripartita de Panamá\, integrada por representantes del sector trabajador\, empleador y de Gobierno\, para escuchar las evaluaciones y propuestas de cada sector frente a la crisis laboral causada por la pandemia de COVID 19. \nLos comisionados presentaron los informes de sus respectivos sectores con respecto a los diversos escenarios surgidos en el ámbito laboral producto de la referida pandemia\, así como sus propuestas sobre todo en materia de las nuevas regulaciones adoptadas por el Gobierno Nacional por medio del Mitradel\, como regente de la política laboral del país con el fin de hacerle frente a esta situación. \nLas autoridades del Mitradel\, tras presentar un informe sobre las diferentes regulaciones y decretos que se han adoptado para hacerle frente a los diferentes escenarios laborales que ha provocado la pandemia\, plantearon también la importancia de crear dos sub comisiones o mesas de trabajo\, una para abordar tripartitamente la coyuntura laboral en el momento actual\, y la otra para revisar y conciliar estos aspectos una vez superada esta crisis. \nSegún se manifestó\, se trata de utilizar un mecanismo ya establecido formal y legalmente como es la Comisión Tripartita de Panamá para debatir estos temas de gran interés para el país y que afecta al sector productivo. \nEn la reunión intervinieron representantes de CONATO y CONUSI\, por el sector trabajador y del CoNEP\, en representación de los gremios empresariales\, quienes tras presentar sus respectivas evaluaciones sobre las afectaciones y las nuevas disposiciones legales en medio de esta coyuntura\, estuvieron de acuerdo con la ministra Doris Zapata en convocar a una nueva reunión para el próximo lunes 19 de abril\, para definir sobre la propuesta del Mitradel y de los otros sectores. \nAlgunos aspectos coincidentes entre las partes fueron entre otros\, el de la suspensión de los contratos de trabajo\, la necesidad de incrementar las acciones de inspección que lleva adelante Mitradel para salvaguar y proteger los derechos de los trabajadores. \nLa titular de Trabajo\, señaló que para hacer efectiva la labor de la Comisión no se pueden perder de vista el tema de los tiempos que impone la pandemia y las medidas que debe adoptar la entidad regente de esta crisis que es el ministerio de Salud. \nJ Beitìa/ RRPP/Mitradel\n16 de abril de 2020
URL:https://www.mitradel.gob.pa/evento/comision-tripartita-evalua-virtualmente-situacion-laboral-del-pais-por-covid-19/
ATTACH;FMTTYPE=image/jpeg:https://www.mitradel.gob.pa/wp-content/uploads/2020/04/img.-Comisión-Tripartita-Virtual.jpg
END:VEVENT
BEGIN:VEVENT
DTSTART;TZID=America/New_York:20200103T030000
DTEND;TZID=America/New_York:20200103T120000
DTSTAMP:20260426T000524
CREATED:20200102T191803Z
LAST-MODIFIED:20200102T191803Z
UID:13494-1578020400-1578052800@www.mitradel.gob.pa
SUMMARY:EVA IVETH CASTAÑO ACOSTA -VS- COLLECTING  & CLAIMS MANAGEMENT\, S.A.
DESCRIPTION:EXP. 0427-18 \nAPODERADO JUDICIAL DE LA DEMANDANTE: MARTIN GONZALEZ BARRIA \nDEFENSOR DE AUSENTE DE LA DEMANDADA : ANTONIO DE JESUS GARZÓN NICOLAU
URL:https://www.mitradel.gob.pa/evento/eva-iveth-castano-acosta-vs-collecting-claims-management-s-a/
END:VEVENT
BEGIN:VEVENT
DTSTART;TZID=America/New_York:20200102T030000
DTEND;TZID=America/New_York:20200102T120000
DTSTAMP:20260426T000524
CREATED:20200102T192039Z
LAST-MODIFIED:20200102T192039Z
UID:13495-1577934000-1577966400@www.mitradel.gob.pa
SUMMARY:AIDEE CAMARENA PINEDA -VS- SKY CHEFS  DE PANAMÁ\, S.A.
DESCRIPTION:EXP. 1358-18 \nAPODERADO JUDICIAL DE LA DEMANDANTE: EDGAR ALEJANDRO SANCHEZ TAPIA \nAPODERADO JUDICIAL DE LA DEMANDADA: EDUARDO A. FLORES
URL:https://www.mitradel.gob.pa/evento/aidee-camarena-pineda-vs-sky-chefs-de-panama-s-a/
END:VEVENT
BEGIN:VEVENT
DTSTART;TZID=America/New_York:20191002T040000
DTEND;TZID=America/New_York:20191002T120000
DTSTAMP:20260426T000524
CREATED:20191002T001110Z
LAST-MODIFIED:20191002T001110Z
UID:12212-1569988800-1570017600@www.mitradel.gob.pa
SUMMARY:AARON OROZCO MOJICA
DESCRIPTION:EXPEDIENTE No. 0894-A-19 \nAPODERADOS : \nDEMANDANTE:  VICENTE MURILLO  \nDEMANDADO:  BUFETE HERRERA 
URL:https://www.mitradel.gob.pa/evento/aaron-orozco-mojica/
END:VEVENT
BEGIN:VEVENT
DTSTART;TZID=America/New_York:20191002T040000
DTEND;TZID=America/New_York:20191002T120000
DTSTAMP:20260426T000524
CREATED:20191002T000904Z
LAST-MODIFIED:20191002T000904Z
UID:12211-1569988800-1570017600@www.mitradel.gob.pa
SUMMARY:FELICIANO  AMAGUE CAMARENA
DESCRIPTION:EXPEDIENTE No.1614-18 \nAPODERADOS:  DEMANDANTE:  RICARDO JAEN APARICIO 
URL:https://www.mitradel.gob.pa/evento/feliciano-amague-camarena/
END:VEVENT
BEGIN:VEVENT
DTSTART;TZID=America/New_York:20191002T040000
DTEND;TZID=America/New_York:20191002T120000
DTSTAMP:20260426T000524
CREATED:20191002T000545Z
LAST-MODIFIED:20191002T000545Z
UID:12210-1569988800-1570017600@www.mitradel.gob.pa
SUMMARY:KATHIA DE VICENTE
DESCRIPTION:EXPEDIENTE No.1212-18 \nAPODERADOS :  DEMANDANTE:  RICARDO DE VICENTE \nDEFENSOR DE AUSENTE : EVA BOZO
URL:https://www.mitradel.gob.pa/evento/kathia-de-vicente/
END:VEVENT
BEGIN:VEVENT
DTSTART;TZID=America/New_York:20190829T030000
DTEND;TZID=America/New_York:20190829T120000
DTSTAMP:20260426T000524
CREATED:20190830T000752Z
LAST-MODIFIED:20190830T000752Z
UID:11769-1567047600-1567080000@www.mitradel.gob.pa
SUMMARY:Comisión de Salario Mínimo define calendario de giras de trabajo en el interior
DESCRIPTION:La Comisión Nacional de Salario Mínimo\, aprobó hoy jueves 29 de agosto\, los cronogramas de giras al interior de la República y el de reuniones ordinarias con ponencias. \nEl cronograma de giras al interior de la República\, quedó establecido así: 11 de septiembre\, distrito de Colón\, 18 de septiembre\, distrito de Chitré y Las Tablas\, 19 de septiembre\, distrito de Santiago\, distrito de La Chorrera\, Chame\, San Carlos\, Arraiján y Capira\, 9 de octubre\, distrito de Penonomé\, Natá\, Aguadulce y Antón\, 16 de octubre\, distrito de Changuinola y el distrito de Bocas del Toro (Isla Colón)\, 17 de octubre\, distrito de David\, Boquete y Bugaba. \nMientras que el cronograma de reuniones ordinarias con presentación de ponencias la primera fecha acordada fue el 23 de septiembre con la ponencia Legislación del Salario Mínimo\, a cargo del Mitradel\, en esa misma reunión también se abordará el tema: Evolución de la economía del país\, a cargo de especialistas del Ministerio de Economía y Finanzas. \nEl 30 de octubre\, el tema a tratar será Salarios\, el 6 de noviembre\, Pobreza y Mercado Laboral\, 13 de noviembre\, Productividad e impacto del salario mínimo\, además\, PIB y Mercado laboral\, concluyendo el 20 de noviembre con la ponencia Mercado Laboral. En estas ponencias participarán técnicos de los tres sectores que integran la Comisión Nacional de Salario Mínimo: trabajadores\, empleadores y Gobierno. \nSe acordó que\, el lunes 2 de septiembre se llevará cabo una reunión de la Comisión Técnica de Salario Mínimo y el jueves 5 de septiembre será la tercera reunión ordinaria de la Comisión Nacional. \nOtro tema tratado en esta sesión fue la modificación de la resolución No. 347-DM de 4 de septiembre de 2017\, relacionada al Reglamento de la Comisión Nacional de Salario Mínimo\, que fue aprobada por los comisionados nacionales. \nEn esta segunda reunión ordinaria\, también se concedió cortesía de sala a las organizaciones sociales independientes: Sintracona\, Sintracopa\,Sintrasue\, Sintraindave y a la Asociación Nacional de Técnicos en Urgencias Médicas (ANTUM)\, esto con el objetivo de escuchar aportes de los gremios a los análisis en la Comisión. \nRRPP/MITRADEL \n29 DE AGOSTO DE 2019
URL:https://www.mitradel.gob.pa/evento/comision-de-salario-minimo-define-calendario-de-giras-de-trabajo-en-el-interior/
ATTACH;FMTTYPE=image/jpeg:https://www.mitradel.gob.pa/wp-content/uploads/2019/08/omisión-de-Salario-Mínimo-define-calendario-de-giras-de-trabajo.jpg
END:VEVENT
BEGIN:VEVENT
DTSTART;TZID=America/New_York:20171121T030000
DTEND;TZID=America/New_York:20171123T120000
DTSTAMP:20260426T000524
CREATED:20170616T175436Z
LAST-MODIFIED:20170616T175436Z
UID:4807-1511233200-1511438400@www.mitradel.gob.pa
SUMMARY:Gira del Proyecto Panamá Pro Joven
DESCRIPTION:
URL:https://www.mitradel.gob.pa/evento/gira-del-proyecto-panama-pro-joven-6/
LOCATION:panama\, Panamá
END:VEVENT
BEGIN:VEVENT
DTSTART;TZID=America/New_York:20171113T030000
DTEND;TZID=America/New_York:20171115T120000
DTSTAMP:20260426T000524
CREATED:20170616T175756Z
LAST-MODIFIED:20170616T175756Z
UID:4810-1510542000-1510747200@www.mitradel.gob.pa
SUMMARY:Gira del Proyecto Panamá Pro Joven
DESCRIPTION:
URL:https://www.mitradel.gob.pa/evento/gira-del-proyecto-panama-pro-joven-8/
END:VEVENT
BEGIN:VEVENT
DTSTART;TZID=America/New_York:20171025T033000
DTEND;TZID=America/New_York:20171025T103000
DTSTAMP:20260426T000524
CREATED:20170616T181512Z
LAST-MODIFIED:20170616T181527Z
UID:4824-1508902200-1508927400@www.mitradel.gob.pa
SUMMARY:Ferias de Empleo
DESCRIPTION:
URL:https://www.mitradel.gob.pa/evento/ferias-de-empleo-6/
END:VEVENT
BEGIN:VEVENT
DTSTART;TZID=America/New_York:20171025T030000
DTEND;TZID=America/New_York:20171027T120000
DTSTAMP:20260426T000524
CREATED:20170616T175241Z
LAST-MODIFIED:20170616T175241Z
UID:4805-1508900400-1509105600@www.mitradel.gob.pa
SUMMARY:Gira del Proyecto Panamá Pro Joven
DESCRIPTION:
URL:https://www.mitradel.gob.pa/evento/gira-del-proyecto-panama-pro-joven-5/
LOCATION:Cocle\, Panamá
END:VEVENT
BEGIN:VEVENT
DTSTART;TZID=America/New_York:20171014T033000
DTEND;TZID=America/New_York:20171014T100000
DTSTAMP:20260426T000524
CREATED:20170616T181424Z
LAST-MODIFIED:20170616T181424Z
UID:4823-1507951800-1507975200@www.mitradel.gob.pa
SUMMARY:Ferias de Empleo
DESCRIPTION:
URL:https://www.mitradel.gob.pa/evento/ferias-de-empleo-5/
END:VEVENT
BEGIN:VEVENT
DTSTART;TZID=America/New_York:20171012T030000
DTEND;TZID=America/New_York:20171014T120000
DTSTAMP:20260426T000524
CREATED:20170616T175145Z
LAST-MODIFIED:20170616T175145Z
UID:4804-1507777200-1507982400@www.mitradel.gob.pa
SUMMARY:Gira del Proyecto Panamá Pro Joven
DESCRIPTION:
URL:https://www.mitradel.gob.pa/evento/gira-del-proyecto-panama-pro-joven-4/
LOCATION:panama\, Panamá
END:VEVENT
BEGIN:VEVENT
DTSTART;TZID=America/New_York:20171004T030000
DTEND;TZID=America/New_York:20171006T120000
DTSTAMP:20260426T000524
CREATED:20170616T175037Z
LAST-MODIFIED:20170616T175037Z
UID:4802-1507086000-1507291200@www.mitradel.gob.pa
SUMMARY:Gira del Proyecto Panamá Pro Joven
DESCRIPTION:
URL:https://www.mitradel.gob.pa/evento/gira-del-proyecto-panama-pro-joven-3/
LOCATION:chiriqui\, Panamá
END:VEVENT
BEGIN:VEVENT
DTSTART;TZID=America/New_York:20171004T030000
DTEND;TZID=America/New_York:20171006T120000
DTSTAMP:20260426T000524
CREATED:20170616T174945Z
LAST-MODIFIED:20170616T174945Z
UID:4800-1507086000-1507291200@www.mitradel.gob.pa
SUMMARY:Gira del Proyecto Panamá Pro Joven
DESCRIPTION:Panamá y Cocle
URL:https://www.mitradel.gob.pa/evento/gira-del-proyecto-panama-pro-joven-2/
LOCATION:panama\, Panamá
END:VEVENT
BEGIN:VEVENT
DTSTART;TZID=America/New_York:20170927T033000
DTEND;TZID=America/New_York:20170927T100000
DTSTAMP:20260426T000524
CREATED:20170616T181218Z
LAST-MODIFIED:20170616T181620Z
UID:4821-1506483000-1506506400@www.mitradel.gob.pa
SUMMARY:Ferias de Empleo
DESCRIPTION:
URL:https://www.mitradel.gob.pa/evento/ferias-de-empleo-4/
LOCATION:Panama Este (Chepo)\,Centro Reg. Universitario\, Panamá
END:VEVENT
BEGIN:VEVENT
DTSTART;TZID=America/New_York:20170927T030000
DTEND;TZID=America/New_York:20170929T120000
DTSTAMP:20260426T000524
CREATED:20170616T175627Z
LAST-MODIFIED:20170616T175659Z
UID:4808-1506481200-1506686400@www.mitradel.gob.pa
SUMMARY:Gira del Proyecto Panamá Pro Joven
DESCRIPTION:
URL:https://www.mitradel.gob.pa/evento/gira-del-proyecto-panama-pro-joven-7/
LOCATION:Veraguas\, Panamá
END:VEVENT
BEGIN:VEVENT
DTSTART;TZID=America/New_York:20170927T030000
DTEND;TZID=America/New_York:20170929T120000
DTSTAMP:20260426T000524
CREATED:20170616T174732Z
LAST-MODIFIED:20170616T174732Z
UID:4798-1506481200-1506686400@www.mitradel.gob.pa
SUMMARY:Gira del Proyecto Panamá Pro Joven
DESCRIPTION:
URL:https://www.mitradel.gob.pa/evento/gira-del-proyecto-panama-pro-joven/
LOCATION:los santos \, INADEH\, Panamá
END:VEVENT
BEGIN:VEVENT
DTSTART;TZID=America/New_York:20170916T033000
DTEND;TZID=America/New_York:20170916T103000
DTSTAMP:20260426T000524
CREATED:20170616T181021Z
LAST-MODIFIED:20170616T181653Z
UID:4819-1505532600-1505557800@www.mitradel.gob.pa
SUMMARY:Ferias de Empleo
DESCRIPTION:
URL:https://www.mitradel.gob.pa/evento/ferias-de-empleo-3/
LOCATION:Chorrera\, Gimnasio Esc. Pedro Pablo Sánchez
END:VEVENT
BEGIN:VEVENT
DTSTART;TZID=America/New_York:20170830T030000
DTEND;TZID=America/New_York:20170830T120000
DTSTAMP:20260426T000524
CREATED:20170616T180818Z
LAST-MODIFIED:20170616T180818Z
UID:4817-1504062000-1504094400@www.mitradel.gob.pa
SUMMARY:Ferias de Empleo
DESCRIPTION:
URL:https://www.mitradel.gob.pa/evento/ferias-de-empleo-2/
LOCATION:Panama \,Coliseo Roberto Durán
END:VEVENT
BEGIN:VEVENT
DTSTART;TZID=America/New_York:20170818T033000
DTEND;TZID=America/New_York:20170818T100000
DTSTAMP:20260426T000524
CREATED:20170616T180614Z
LAST-MODIFIED:20170616T180614Z
UID:4815-1503027000-1503050400@www.mitradel.gob.pa
SUMMARY:Ferias de Empleo
DESCRIPTION:
URL:https://www.mitradel.gob.pa/evento/ferias-de-empleo/
LOCATION:Chiriqui \, Gimnasio de Pandeportes\, Panamá
END:VEVENT
BEGIN:VEVENT
DTSTART;TZID=America/New_York:20170728T033000
DTEND;TZID=America/New_York:20170728T100000
DTSTAMP:20260426T000524
CREATED:20170616T180335Z
LAST-MODIFIED:20170616T180706Z
UID:4813-1501212600-1501236000@www.mitradel.gob.pa
SUMMARY:Feria de Empleo
DESCRIPTION:
URL:https://www.mitradel.gob.pa/evento/feria-de-empleo-2/
LOCATION:Colon\, Arena Roberto Browm\, Panamá
END:VEVENT
BEGIN:VEVENT
DTSTART;TZID=America/New_York:20170624T033000
DTEND;TZID=America/New_York:20170624T100000
DTSTAMP:20260426T000524
CREATED:20170616T180111Z
LAST-MODIFIED:20170616T180111Z
UID:4811-1498275000-1498298400@www.mitradel.gob.pa
SUMMARY:Feria de Empleo
DESCRIPTION:
URL:https://www.mitradel.gob.pa/evento/feria-de-empleo/
LOCATION:Veraguas\, Gimnasio Escuela Normal\, Panamá
END:VEVENT
BEGIN:VEVENT
DTSTART;TZID=America/New_York:20170519T030000
DTEND;TZID=America/New_York:20170519T120000
DTSTAMP:20260426T000524
CREATED:20170510T183432Z
LAST-MODIFIED:20170510T183432Z
UID:4469-1495162800-1495195200@www.mitradel.gob.pa
SUMMARY:Gira del Programa de Orientación  Vocacional y Empleo
DESCRIPTION:
URL:https://www.mitradel.gob.pa/evento/gira-del-programa-orientacion-vocacional-empleo-6/
LOCATION:I.P.T Juan Diaz\, Panamá
END:VEVENT
BEGIN:VEVENT
DTSTART;TZID=America/New_York:20170518T030000
DTEND;TZID=America/New_York:20170518T120000
DTSTAMP:20260426T000524
CREATED:20170510T183342Z
LAST-MODIFIED:20170510T183342Z
UID:4465-1495076400-1495108800@www.mitradel.gob.pa
SUMMARY:Gira del Programa de Orientación  Vocacional y Empleo
DESCRIPTION:
URL:https://www.mitradel.gob.pa/evento/gira-del-programa-orientacion-vocacional-empleo-5/
LOCATION:Colegio Elena Chaves de Pinate\, Panamá
END:VEVENT
BEGIN:VEVENT
DTSTART;TZID=America/New_York:20170517T030000
DTEND;TZID=America/New_York:20170517T120000
DTSTAMP:20260426T000524
CREATED:20170510T183242Z
LAST-MODIFIED:20170510T183242Z
UID:4462-1494990000-1495022400@www.mitradel.gob.pa
SUMMARY:Gira del Programa de Orientación  Vocacional y Empleo
DESCRIPTION:
URL:https://www.mitradel.gob.pa/evento/gira-del-programa-orientacion-vocacional-empleo-4/
LOCATION:Instituto Rubiano\, Panamá
END:VEVENT
BEGIN:VEVENT
DTSTART;TZID=America/New_York:20170516T030000
DTEND;TZID=America/New_York:20170516T120000
DTSTAMP:20260426T000524
CREATED:20170510T183158Z
LAST-MODIFIED:20170510T183158Z
UID:4460-1494903600-1494936000@www.mitradel.gob.pa
SUMMARY:Gira del Programa de Orientación  Vocacional y Empleo
DESCRIPTION:
URL:https://www.mitradel.gob.pa/evento/gira-del-programa-orientacion-vocacional-empleo-3/
LOCATION:I.P.T Jeptha Duncan\, Panamá
END:VEVENT
BEGIN:VEVENT
DTSTART;TZID=America/New_York:20170512T030000
DTEND;TZID=America/New_York:20170512T120000
DTSTAMP:20260426T000524
CREATED:20170510T183105Z
LAST-MODIFIED:20170510T183105Z
UID:4457-1494558000-1494590400@www.mitradel.gob.pa
SUMMARY:Gira del Programa de Orientación  Vocacional y Empleo
DESCRIPTION:
URL:https://www.mitradel.gob.pa/evento/gira-del-programa-orientacion-vocacional-empleo-2/
LOCATION:Escuela Prof. Isabel Herrera Obaldia\, Panamá
END:VEVENT
BEGIN:VEVENT
DTSTART;TZID=America/New_York:20170511T030000
DTEND;TZID=America/New_York:20170511T120000
DTSTAMP:20260426T000524
CREATED:20170510T182749Z
LAST-MODIFIED:20170510T182749Z
UID:4455-1494471600-1494504000@www.mitradel.gob.pa
SUMMARY:Gira del Programa de Orientación  Vocacional y Empleo
DESCRIPTION:
URL:https://www.mitradel.gob.pa/evento/gira-del-programa-orientacion-vocacional-empleo/
LOCATION:Colegio Richard Neuman\, Panamá
END:VEVENT
BEGIN:VEVENT
DTSTART;TZID=America/New_York:20170429T030000
DTEND;TZID=America/New_York:20170429T120000
DTSTAMP:20260426T000524
CREATED:20170317T030700Z
LAST-MODIFIED:20170317T033029Z
UID:3915-1493434800-1493467200@www.mitradel.gob.pa
SUMMARY:Jornadas de Inscripción y Afiliación dirigida a Trabajadores(as) Domésticos(as)
DESCRIPTION:En colaboración con la Caja de Seguro Social. \nBeneficios de la seguridad social.
URL:https://www.mitradel.gob.pa/evento/jornadas-inscripcion-afiliacion-dirigida-trabajadoresas-domesticosas-dorado-plaza-mirage/
LOCATION:El Dorado\, Plaza Mirage.\, Panamá
END:VEVENT
END:VCALENDAR